BEGIN:VCALENDAR
VERSION:2.0
PRODID:-//hacksw/handcal//NONSGML v1.0//EN
CALSCALE:GREGORIAN
BEGIN:VEVENT
DTEND:20260428T220000
UID:82debdc98e2a055722b3f29add268150
DTSTAMP:1777122688
LOCATION:
DESCRIPTION:UEFA Champions League
URL;VALUE=URI:https://statbetting.com/stats.php?fixture=193070534
SUMMARY:PSG v Bayern Munich
DTSTART:20260428T200000
END:VEVENT
END:VCALENDAR