BEGIN:VCALENDAR
VERSION:2.0
PRODID:-//hacksw/handcal//NONSGML v1.0//EN
CALSCALE:GREGORIAN
BEGIN:VEVENT
DTEND:20260427T220000
UID:de3f0e4c4b62b0282daef87837715241
DTSTAMP:1776940328
LOCATION:
DESCRIPTION:England Premier League
URL;VALUE=URI:https://statbetting.com/stats.php?fixture=192501042
SUMMARY:Man Utd v Brentford
DTSTART:20260427T200000
END:VEVENT
END:VCALENDAR