BEGIN:VCALENDAR
VERSION:2.0
PRODID:-//hacksw/handcal//NONSGML v1.0//EN
CALSCALE:GREGORIAN
BEGIN:VEVENT
DTEND:20260422T220000
UID:285d54368ec16528fa6c8eb8c79bfe4f
DTSTAMP:1776646915
LOCATION:
DESCRIPTION:England Premier League
URL;VALUE=URI:https://statbetting.com/stats.php?fixture=192501037
SUMMARY:Burnley v Man City
DTSTART:20260422T200000
END:VEVENT
END:VCALENDAR