BEGIN:VCALENDAR
VERSION:2.0
PRODID:-//hacksw/handcal//NONSGML v1.0//EN
CALSCALE:GREGORIAN
BEGIN:VEVENT
DTEND:20260425T193000
UID:8d0c09a0030c3cd41345e92e4fce82a6
DTSTAMP:1776775737
LOCATION:
DESCRIPTION:England Premier League
URL;VALUE=URI:https://statbetting.com/stats.php?fixture=192501035
SUMMARY:Arsenal v Newcastle
DTSTART:20260425T173000
END:VEVENT
END:VCALENDAR