BEGIN:VCALENDAR
VERSION:2.0
PRODID:-//hacksw/handcal//NONSGML v1.0//EN
CALSCALE:GREGORIAN
BEGIN:VEVENT
DTEND:20260425T170000
UID:95b32f04724a7e11d265ee3aee222e77
DTSTAMP:1776775425
LOCATION:
DESCRIPTION:England Premier League
URL;VALUE=URI:https://statbetting.com/stats.php?fixture=192501031
SUMMARY:Wolverhampton v Tottenham
DTSTART:20260425T150000
END:VEVENT
END:VCALENDAR