BEGIN:VCALENDAR
VERSION:2.0
PRODID:-//hacksw/handcal//NONSGML v1.0//EN
CALSCALE:GREGORIAN
BEGIN:VEVENT
DTEND:20260425T170000
UID:6754c296da0214f12c29b2660270474c
DTSTAMP:1776775404
LOCATION:
DESCRIPTION:England Premier League
URL;VALUE=URI:https://statbetting.com/stats.php?fixture=192501025
SUMMARY:West Ham v Everton
DTSTART:20260425T150000
END:VEVENT
END:VCALENDAR