BEGIN:VCALENDAR
VERSION:2.0
PRODID:-//hacksw/handcal//NONSGML v1.0//EN
CALSCALE:GREGORIAN
BEGIN:VEVENT
DTEND:20260425T170000
UID:100d5aaed59e680bb17d9231a49014b3
DTSTAMP:1776775324
LOCATION:
DESCRIPTION:England Premier League
URL;VALUE=URI:https://statbetting.com/stats.php?fixture=192501021
SUMMARY:Liverpool v Crystal Palace
DTSTART:20260425T150000
END:VEVENT
END:VCALENDAR