BEGIN:VCALENDAR
VERSION:2.0
PRODID:-//hacksw/handcal//NONSGML v1.0//EN
CALSCALE:GREGORIAN
BEGIN:VEVENT
DTEND:20260422T220000
UID:6943eab2a2f615df2ab241b301711fd9
DTSTAMP:1776646915
LOCATION:
DESCRIPTION:England Premier League
URL;VALUE=URI:https://statbetting.com/stats.php?fixture=192501009
SUMMARY:Bournemouth v Leeds
DTSTART:20260422T200000
END:VEVENT
END:VCALENDAR