BEGIN:VCALENDAR
VERSION:2.0
PRODID:-//hacksw/handcal//NONSGML v1.0//EN
CALSCALE:GREGORIAN
BEGIN:VEVENT
DTEND:20260425T143000
UID:85764ee37b3431c57fc8f489ac7f9d1e
DTSTAMP:1776775695
LOCATION:
DESCRIPTION:England Premier League
URL;VALUE=URI:https://statbetting.com/stats.php?fixture=192500992
SUMMARY:Fulham v Aston Villa
DTSTART:20260425T123000
END:VEVENT
END:VCALENDAR