BEGIN:VCALENDAR
VERSION:2.0
PRODID:-//hacksw/handcal//NONSGML v1.0//EN
CALSCALE:GREGORIAN
BEGIN:VEVENT
DTEND:20260424T220000
UID:c62342da784243096e9fb01963afe3a9
DTSTAMP:1776685116
LOCATION:
DESCRIPTION:England Premier League
URL;VALUE=URI:https://statbetting.com/stats.php?fixture=192500986
SUMMARY:Sunderland v Nottm Forest
DTSTART:20260424T200000
END:VEVENT
END:VCALENDAR