BEGIN:VCALENDAR
VERSION:2.0
PRODID:-//hacksw/handcal//NONSGML v1.0//EN
CALSCALE:GREGORIAN
BEGIN:VEVENT
DTEND:20260425T170000
UID:0bfe526ac8af20283905e499c383fb2c
DTSTAMP:1776940603
LOCATION:
DESCRIPTION:England Championship
URL;VALUE=URI:https://statbetting.com/stats.php?fixture=192499005
SUMMARY:Stoke v Portsmouth
DTSTART:20260425T150000
END:VEVENT
END:VCALENDAR