BEGIN:VCALENDAR
VERSION:2.0
PRODID:-//hacksw/handcal//NONSGML v1.0//EN
CALSCALE:GREGORIAN
BEGIN:VEVENT
DTEND:20260425T170000
UID:2990c4f930758c7ce6075e0e3622849d
DTSTAMP:1776940901
LOCATION:
DESCRIPTION:England Championship
URL;VALUE=URI:https://statbetting.com/stats.php?fixture=192499003
SUMMARY:Sheff Utd v Preston
DTSTART:20260425T150000
END:VEVENT
END:VCALENDAR