BEGIN:VCALENDAR
VERSION:2.0
PRODID:-//hacksw/handcal//NONSGML v1.0//EN
CALSCALE:GREGORIAN
BEGIN:VEVENT
DTEND:20260425T170000
UID:05815294594bcfa85afcefb2d4bb4400
DTSTAMP:1776940869
LOCATION:
DESCRIPTION:England Championship
URL;VALUE=URI:https://statbetting.com/stats.php?fixture=192499001
SUMMARY:QPR v Derby
DTSTART:20260425T150000
END:VEVENT
END:VCALENDAR