BEGIN:VCALENDAR
VERSION:2.0
PRODID:-//hacksw/handcal//NONSGML v1.0//EN
CALSCALE:GREGORIAN
BEGIN:VEVENT
DTEND:20260425T170000
UID:63eaf819ce2bf715f8f72531b255a581
DTSTAMP:1776940465
LOCATION:
DESCRIPTION:England Championship
URL;VALUE=URI:https://statbetting.com/stats.php?fixture=192498999
SUMMARY:Oxford Utd v Sheff Wed
DTSTART:20260425T150000
END:VEVENT
END:VCALENDAR