BEGIN:VCALENDAR
VERSION:2.0
PRODID:-//hacksw/handcal//NONSGML v1.0//EN
CALSCALE:GREGORIAN
BEGIN:VEVENT
DTEND:20260425T170000
UID:0ac8bdabadaff800b7310d48ab51f38f
DTSTAMP:1776940458
LOCATION:
DESCRIPTION:England Championship
URL;VALUE=URI:https://statbetting.com/stats.php?fixture=192498997
SUMMARY:Norwich v Swansea
DTSTART:20260425T150000
END:VEVENT
END:VCALENDAR