BEGIN:VCALENDAR
VERSION:2.0
PRODID:-//hacksw/handcal//NONSGML v1.0//EN
CALSCALE:GREGORIAN
BEGIN:VEVENT
DTEND:20260425T170000
UID:30c39f0d65a480aa00e348be7ee3eb68
DTSTAMP:1776940353
LOCATION:
DESCRIPTION:England Championship
URL;VALUE=URI:https://statbetting.com/stats.php?fixture=192498993
SUMMARY:Birmingham v Bristol City
DTSTART:20260425T150000
END:VEVENT
END:VCALENDAR