BEGIN:VCALENDAR
VERSION:2.0
PRODID:-//hacksw/handcal//NONSGML v1.0//EN
CALSCALE:GREGORIAN
BEGIN:VEVENT
DTEND:20260425T143000
UID:cd791ffd28e1493320fe8ec5597c4f3b
DTSTAMP:1776940590
LOCATION:
DESCRIPTION:England Championship
URL;VALUE=URI:https://statbetting.com/stats.php?fixture=192498931
SUMMARY:West Brom v Ipswich
DTSTART:20260425T123000
END:VEVENT
END:VCALENDAR