BEGIN:VCALENDAR
VERSION:2.0
PRODID:-//hacksw/handcal//NONSGML v1.0//EN
CALSCALE:GREGORIAN
BEGIN:VEVENT
DTEND:20260425T143000
UID:838386b132604d91b03fdba3827e4d65
DTSTAMP:1776940501
LOCATION:
DESCRIPTION:England Championship
URL;VALUE=URI:https://statbetting.com/stats.php?fixture=192498928
SUMMARY:Middlesbrough v Watford
DTSTART:20260425T123000
END:VEVENT
END:VCALENDAR