BEGIN:VCALENDAR
VERSION:2.0
PRODID:-//hacksw/handcal//NONSGML v1.0//EN
CALSCALE:GREGORIAN
BEGIN:VEVENT
DTEND:20260424T220000
UID:0769ea5c764b89e62dc89b88957dca7f
DTSTAMP:1776863170
LOCATION:
DESCRIPTION:England Championship
URL;VALUE=URI:https://statbetting.com/stats.php?fixture=192498922
SUMMARY:Leicester v Millwall
DTSTART:20260424T200000
END:VEVENT
END:VCALENDAR