BEGIN:VCALENDAR
VERSION:2.0
PRODID:-//hacksw/handcal//NONSGML v1.0//EN
CALSCALE:GREGORIAN
BEGIN:VEVENT
DTEND:20260426T140000
UID:2565601bdc029790c730a0d0d7a230b8
DTSTAMP:1776940694
LOCATION:
DESCRIPTION:England Championship
URL;VALUE=URI:https://statbetting.com/stats.php?fixture=192498920
SUMMARY:Coventry v Wrexham
DTSTART:20260426T120000
END:VEVENT
END:VCALENDAR