BEGIN:VCALENDAR
VERSION:2.0
PRODID:-//hacksw/handcal//NONSGML v1.0//EN
CALSCALE:GREGORIAN
BEGIN:VEVENT
DTEND:20260422T214500
UID:72fd90bd2c6c2542ef02c3a2478267f6
DTSTAMP:1776647040
LOCATION:
DESCRIPTION:England Championship
URL;VALUE=URI:https://statbetting.com/stats.php?fixture=192498799
SUMMARY:Sheff Utd v Blackburn
DTSTART:20260422T194500
END:VEVENT
END:VCALENDAR