BEGIN:VCALENDAR
VERSION:2.0
PRODID:-//hacksw/handcal//NONSGML v1.0//EN
CALSCALE:GREGORIAN
BEGIN:VEVENT
DTEND:20260422T214500
UID:9031e8147440ee9d38a8918d1f08ddb1
DTSTAMP:1776647264
LOCATION:
DESCRIPTION:England Championship
URL;VALUE=URI:https://statbetting.com/stats.php?fixture=192498797
SUMMARY:Middlesbrough v Sheff Wed
DTSTART:20260422T194500
END:VEVENT
END:VCALENDAR