BEGIN:VCALENDAR
VERSION:2.0
PRODID:-//hacksw/handcal//NONSGML v1.0//EN
CALSCALE:GREGORIAN
BEGIN:VEVENT
DTEND:20260422T214500
UID:4d59f689d1ad8f132649e084d340177c
DTSTAMP:1776647186
LOCATION:
DESCRIPTION:England Championship
URL;VALUE=URI:https://statbetting.com/stats.php?fixture=192498795
SUMMARY:Charlton v Ipswich
DTSTART:20260422T194500
END:VEVENT
END:VCALENDAR