BEGIN:VCALENDAR
VERSION:2.0
PRODID:-//hacksw/handcal//NONSGML v1.0//EN
CALSCALE:GREGORIAN
BEGIN:VEVENT
DTEND:20260422T214500
UID:a142ebd9bd833087b513be255b2f014f
DTSTAMP:1776647023
LOCATION:
DESCRIPTION:England Championship
URL;VALUE=URI:https://statbetting.com/stats.php?fixture=192498793
SUMMARY:Birmingham v Preston
DTSTART:20260422T194500
END:VEVENT
END:VCALENDAR