BEGIN:VCALENDAR
VERSION:2.0
PRODID:-//hacksw/handcal//NONSGML v1.0//EN
CALSCALE:GREGORIAN
BEGIN:VEVENT
DTEND:20260421T214500
UID:3a8e1b1fb01816d8401b888002caf0ef
DTSTAMP:1776647488
LOCATION:
DESCRIPTION:England Championship
URL;VALUE=URI:https://statbetting.com/stats.php?fixture=192498791
SUMMARY:West Brom v Watford
DTSTART:20260421T194500
END:VEVENT
END:VCALENDAR