BEGIN:VCALENDAR
VERSION:2.0
PRODID:-//hacksw/handcal//NONSGML v1.0//EN
CALSCALE:GREGORIAN
BEGIN:VEVENT
DTEND:20260421T214500
UID:6cdd213f91f2a2ee86690852b7d99958
DTSTAMP:1776647395
LOCATION:
DESCRIPTION:England Championship
URL;VALUE=URI:https://statbetting.com/stats.php?fixture=192498786
SUMMARY:Stoke v Millwall
DTSTART:20260421T194500
END:VEVENT
END:VCALENDAR