BEGIN:VCALENDAR
VERSION:2.0
PRODID:-//hacksw/handcal//NONSGML v1.0//EN
CALSCALE:GREGORIAN
BEGIN:VEVENT
DTEND:20260421T214500
UID:727980d76354d691a1e9235bfa00ef0f
DTSTAMP:1776647134
LOCATION:
DESCRIPTION:England Championship
URL;VALUE=URI:https://statbetting.com/stats.php?fixture=192498782
SUMMARY:Southampton v Bristol City
DTSTART:20260421T194500
END:VEVENT
END:VCALENDAR