BEGIN:VCALENDAR
VERSION:2.0
PRODID:-//hacksw/handcal//NONSGML v1.0//EN
CALSCALE:GREGORIAN
BEGIN:VEVENT
DTEND:20260421T214500
UID:10e0314d2f3c5f02876a0e4a5352f75c
DTSTAMP:1776646936
LOCATION:
DESCRIPTION:England Championship
URL;VALUE=URI:https://statbetting.com/stats.php?fixture=192498778
SUMMARY:QPR v Swansea
DTSTART:20260421T194500
END:VEVENT
END:VCALENDAR