BEGIN:VCALENDAR
VERSION:2.0
PRODID:-//hacksw/handcal//NONSGML v1.0//EN
CALSCALE:GREGORIAN
BEGIN:VEVENT
DTEND:20260421T214500
UID:9068231b5bd597ebc59f1afdf6ca327d
DTSTAMP:1776647023
LOCATION:
DESCRIPTION:England Championship
URL;VALUE=URI:https://statbetting.com/stats.php?fixture=192498763
SUMMARY:Oxford Utd v Wrexham
DTSTART:20260421T194500
END:VEVENT
END:VCALENDAR