BEGIN:VCALENDAR
VERSION:2.0
PRODID:-//hacksw/handcal//NONSGML v1.0//EN
CALSCALE:GREGORIAN
BEGIN:VEVENT
DTEND:20260421T214500
UID:7498fa4c364723dd5c958603f7b195fe
DTSTAMP:1776647096
LOCATION:
DESCRIPTION:England Championship
URL;VALUE=URI:https://statbetting.com/stats.php?fixture=192498747
SUMMARY:Norwich v Derby
DTSTART:20260421T194500
END:VEVENT
END:VCALENDAR