BEGIN:VCALENDAR
VERSION:2.0
PRODID:-//hacksw/handcal//NONSGML v1.0//EN
CALSCALE:GREGORIAN
BEGIN:VEVENT
DTEND:20260421T214500
UID:f32339dcb8fc179ff70c2770f39833c4
DTSTAMP:1776646936
LOCATION:
DESCRIPTION:England Championship
URL;VALUE=URI:https://statbetting.com/stats.php?fixture=192498741
SUMMARY:Leicester v Hull
DTSTART:20260421T194500
END:VEVENT
END:VCALENDAR