BEGIN:VCALENDAR
VERSION:2.0
PRODID:-//hacksw/handcal//NONSGML v1.0//EN
CALSCALE:GREGORIAN
BEGIN:VEVENT
DTEND:20260314T193000
UID:704f61339b7837fce793c572dff4109c
DTSTAMP:1776674089
LOCATION:
DESCRIPTION:Germany Bundesliga I
URL;VALUE=URI:https://statbetting.com/stats.php?fixture=189894690
SUMMARY:Hamburg v Cologne
DTSTART:20260314T173000
END:VEVENT
END:VCALENDAR