BEGIN:VCALENDAR
VERSION:2.0
PRODID:-//hacksw/handcal//NONSGML v1.0//EN
CALSCALE:GREGORIAN
BEGIN:VEVENT
DTEND:20260314T163000
UID:70c63353e4fb97687abe0e1b773bb658
DTSTAMP:1776673995
LOCATION:
DESCRIPTION:Germany Bundesliga I
URL;VALUE=URI:https://statbetting.com/stats.php?fixture=189894669
SUMMARY:Eintracht Frankfurt v Heidenheim
DTSTART:20260314T143000
END:VEVENT
END:VCALENDAR