BEGIN:VCALENDAR
VERSION:2.0
PRODID:-//hacksw/handcal//NONSGML v1.0//EN
CALSCALE:GREGORIAN
BEGIN:VEVENT
DTEND:20260314T163000
UID:821570aee96415d29fb6cbc9546543a0
DTSTAMP:1776675158
LOCATION:
DESCRIPTION:Germany Bundesliga I
URL;VALUE=URI:https://statbetting.com/stats.php?fixture=189894657
SUMMARY:Bayer Leverkusen v Bayern Munich
DTSTART:20260314T143000
END:VEVENT
END:VCALENDAR